BEGIN:VCALENDAR
VERSION:2.0
PRODID:-//Sarah Salter Kelly - ECPv6.15.20//NONSGML v1.0//EN
CALSCALE:GREGORIAN
METHOD:PUBLISH
X-WR-CALNAME:Sarah Salter Kelly
X-ORIGINAL-URL:https://sarahsalterkelly.com
X-WR-CALDESC:Events for Sarah Salter Kelly
REFRESH-INTERVAL;VALUE=DURATION:PT1H
X-Robots-Tag:noindex
X-PUBLISHED-TTL:PT1H
BEGIN:VTIMEZONE
TZID:America/Chicago
BEGIN:DAYLIGHT
TZOFFSETFROM:-0600
TZOFFSETTO:-0500
TZNAME:CDT
DTSTART:20220313T080000
END:DAYLIGHT
BEGIN:STANDARD
TZOFFSETFROM:-0500
TZOFFSETTO:-0600
TZNAME:CST
DTSTART:20221106T070000
END:STANDARD
BEGIN:DAYLIGHT
TZOFFSETFROM:-0600
TZOFFSETTO:-0500
TZNAME:CDT
DTSTART:20230312T080000
END:DAYLIGHT
BEGIN:STANDARD
TZOFFSETFROM:-0500
TZOFFSETTO:-0600
TZNAME:CST
DTSTART:20231105T070000
END:STANDARD
BEGIN:DAYLIGHT
TZOFFSETFROM:-0600
TZOFFSETTO:-0500
TZNAME:CDT
DTSTART:20240310T080000
END:DAYLIGHT
BEGIN:STANDARD
TZOFFSETFROM:-0500
TZOFFSETTO:-0600
TZNAME:CST
DTSTART:20241103T070000
END:STANDARD
END:VTIMEZONE
BEGIN:VEVENT
DTSTART;TZID=America/Chicago:20230720T190000
DTEND;TZID=America/Chicago:20230720T203000
DTSTAMP:20260419T141143
CREATED:20230611T173034Z
LAST-MODIFIED:20230705T192601Z
UID:223116-1689879600-1689885000@sarahsalterkelly.com
SUMMARY:Cobra Shamanic Journey & Ecstatic Dance Edmonton
DESCRIPTION:SHAMANIC JOURNEY is the art of experiencing direct revelation at will. As a core shamanic practice\, it is a fundamental tool in learning to navigate the underworld\, middle world & upperworld\, utilizing the information gathered to bring forth messages\, meaning and purpose. Relationship is built with each realm to support a greater understanding of who you are and your place in the Great Mystery. \nWhen working with a specific archetype or power-animal the investigation is to meet this being and learn what it has to teach you. This can be in any of the aforementioned realms. \nPOWER ANIMAL – Receive the benefit of shapeshifting into their body and seeing the world through their eyes/experiences. Listen and feel into what you must learn on a sensory level and how this perspective may change your own point of view. For example: Cobra helps us to connect with the Kundalini fire rising from the earth\, awakening each of our chakras with this power. Experiencing what it is like to move with the awareness and presence of Cobra shows you how to embody\, feel and express what you want. \nSPIRIT GUIDE – With an archetype you are led to meet them directly as a guide\, and learn what they have to teach you. How does the mythos of their story contribute to the soul teachings you are seeking. For example: Anubis is the jackal headed Egyptian God who is the “Keeper of the Way.” He is the one who protects the dead – what has died – and is a gate keeper into the realm of the underworld. In a journey with him you are guided to make peace with what has died\, with what is at its natural cycle of endings. Or to be conscious of what you are holding on to that needs to die so you can let it go. \nECSTATIC DANCE – There is about thirty minutes of free form movement included in each of these classes to support your body in releasing contracted energy\, open to your gifts\, and practice embodiment. \nCost $30 in advance – $40 at the door \nE-transfer to sarahsalterkelly@gmail.com \nWHAT TO BRING:  \n\nYoga mat\nCushion\nBlanket\nWater\nWear Comfy clothes\n\nLOGISTICS: \n\n7pm – Open Sacred Space – Check in\n7:20-7:50 – Shamanic Journey – You lie on the ground (or sit up if you prefer) while I lead you through the experience using my voice\, drum\, handpan\, rattle or other sound tools.\n7:50-8:20 – Movement/Dance – release\, express\, allow & embody\n8:20-8:30 – Close Sacred Space\n\nCURIOUS FOR MORE INFORMATION – CHECK OUT THE FOLLOWING: \nMore on Shamanic Journey \nPractice Working with your Energy Body  \nSimple example of connecting with a Spirit Guide in the middle world \n 
URL:https://sarahsalterkelly.com/upcomingevent/cobra-shamanic-journey-ecstatic-dance-edmonton/
LOCATION:Roots on Whyte\, unit 304\, 8135-102st\, Edmonton\, Alberta\, T6E4A4\, Canada
CATEGORIES:shamanic journey
ATTACH;FMTTYPE=image/png:https://sarahsalterkelly.com/wp-content/uploads/2023/06/Hummingbird-.png
END:VEVENT
END:VCALENDAR