BEGIN:VCALENDAR
VERSION:2.0
PRODID:-//Sarah Salter Kelly - ECPv6.15.20//NONSGML v1.0//EN
CALSCALE:GREGORIAN
METHOD:PUBLISH
X-WR-CALNAME:Sarah Salter Kelly
X-ORIGINAL-URL:https://sarahsalterkelly.com
X-WR-CALDESC:Events for Sarah Salter Kelly
REFRESH-INTERVAL;VALUE=DURATION:PT1H
X-Robots-Tag:noindex
X-PUBLISHED-TTL:PT1H
BEGIN:VTIMEZONE
TZID:America/Denver
BEGIN:DAYLIGHT
TZOFFSETFROM:-0700
TZOFFSETTO:-0600
TZNAME:MDT
DTSTART:20220313T090000
END:DAYLIGHT
BEGIN:STANDARD
TZOFFSETFROM:-0600
TZOFFSETTO:-0700
TZNAME:MST
DTSTART:20221106T080000
END:STANDARD
BEGIN:DAYLIGHT
TZOFFSETFROM:-0700
TZOFFSETTO:-0600
TZNAME:MDT
DTSTART:20230312T090000
END:DAYLIGHT
BEGIN:STANDARD
TZOFFSETFROM:-0600
TZOFFSETTO:-0700
TZNAME:MST
DTSTART:20231105T080000
END:STANDARD
BEGIN:DAYLIGHT
TZOFFSETFROM:-0700
TZOFFSETTO:-0600
TZNAME:MDT
DTSTART:20240310T090000
END:DAYLIGHT
BEGIN:STANDARD
TZOFFSETFROM:-0600
TZOFFSETTO:-0700
TZNAME:MST
DTSTART:20241103T080000
END:STANDARD
END:VTIMEZONE
BEGIN:VEVENT
DTSTART;TZID=America/Denver:20230523T190000
DTEND;TZID=America/Denver:20230523T203000
DTSTAMP:20260419T165123
CREATED:20230306T201324Z
LAST-MODIFIED:20230306T201324Z
UID:223022-1684868400-1684873800@sarahsalterkelly.com
SUMMARY:Forgivness Healing Circle
DESCRIPTION:Forgiveness has the power to liberate us from our deepest suffering\, to remind us that joy and grace are ever present and available – if we so choose. \nWhen we align with our Source – our highest power – we naturally remember the truth of our being and are able to shift our perspective to a different vantage point. To explore who we are and what has come to pass with a new set of eyes. \nThe grievances we hold – towards ourselves or others – remain as contracted energy in our bodies. This impedes our ability to open to our light\, diminishes our relationships\, and prevents us from feeling connected. What we have not forgiven quite literally prevents us from showing up in our lives. \nHow can we if we are consumed with all the holding required to bear these greivances. \nThis monthly circle offers an opportunity to engage your felt sense\, explore your energy body\, and notice what you are holding as contracted unforgiven blocks. Then begin the work of self inquiry to explore and investigate how you may change this to cultivate peace. \nLocation is Roots on Whyte Conference room 8135-102st unit 304 \nRegistration is confirmed via e-transfer of $30 to sarahsalterkelly@gmail.com \nPay $100 for all four at once and save $20 \n 
URL:https://sarahsalterkelly.com/upcomingevent/forgivness-healing-circle/
LOCATION:Roots on Whyte\, unit 304\, 8135-102st\, Edmonton\, Alberta\, T6E4A4\, Canada
CATEGORIES:Healing Circle
ATTACH;FMTTYPE=image/png:https://sarahsalterkelly.com/wp-content/uploads/2023/03/20359102-4949-4D7A-AED4-55BCBB63F4FC.png
END:VEVENT
END:VCALENDAR